BEGIN:VCALENDAR
VERSION:2.0
PRODID:-//Yoling Club de Peillac - ECPv5.1.1//NONSGML v1.0//EN
CALSCALE:GREGORIAN
METHOD:PUBLISH
X-WR-CALNAME:Yoling Club de Peillac
X-ORIGINAL-URL:http://www.yolingclub.fr
X-WR-CALDESC:Évènements pour Yoling Club de Peillac
BEGIN:VTIMEZONE
TZID:Europe/Paris
BEGIN:DAYLIGHT
TZOFFSETFROM:+0100
TZOFFSETTO:+0200
TZNAME:CEST
DTSTART:20190331T010000
END:DAYLIGHT
BEGIN:STANDARD
TZOFFSETFROM:+0200
TZOFFSETTO:+0100
TZNAME:CET
DTSTART:20191027T010000
END:STANDARD
END:VTIMEZONE
BEGIN:VEVENT
DTSTART;TZID=Europe/Paris:20190914T080000
DTEND;TZID=Europe/Paris:20190915T170000
DTSTAMP:20260424T175014
CREATED:20190914T180359Z
LAST-MODIFIED:20190414T180744Z
UID:1578-1568448000-1568566800@www.yolingclub.fr
SUMMARY:Fête de la mer à Mesquer
DESCRIPTION:Venez à la fête de la Mer de Mesquer. \nDépart de Kervoyal\, navigations chasse au trésor le samedi\, nav libres le dimanche \nPartager :\n\n	Sur le même thème\n
URL:http://www.yolingclub.fr/event/fete-de-la-mer-a-mesquer/
LOCATION:Mesquer
END:VEVENT
END:VCALENDAR