BEGIN:VCALENDAR
VERSION:2.0
PRODID:-//Yoling Club de Peillac - ECPv5.1.1//NONSGML v1.0//EN
CALSCALE:GREGORIAN
METHOD:PUBLISH
X-WR-CALNAME:Yoling Club de Peillac
X-ORIGINAL-URL:http://www.yolingclub.fr
X-WR-CALDESC:Évènements pour Yoling Club de Peillac
BEGIN:VTIMEZONE
TZID:Europe/Paris
BEGIN:DAYLIGHT
TZOFFSETFROM:+0100
TZOFFSETTO:+0200
TZNAME:CEST
DTSTART:20190331T010000
END:DAYLIGHT
BEGIN:STANDARD
TZOFFSETFROM:+0200
TZOFFSETTO:+0100
TZNAME:CET
DTSTART:20191027T010000
END:STANDARD
END:VTIMEZONE
BEGIN:VEVENT
DTSTART;TZID=Europe/Paris:20190714T110000
DTEND;TZID=Europe/Paris:20190715T110000
DTSTAMP:20260424T174946
CREATED:20190414T175655Z
LAST-MODIFIED:20190414T175655Z
UID:1573-1563102000-1563188400@www.yolingclub.fr
SUMMARY:Guinguette du 14 juillet 2019
DESCRIPTION:Venez faire la fête lors de la Guinguette du 14 juillet.\nC’est au Pont d’Oust à Peillac le dimanche 14/07\, de 11h à 2h.\nRepas en musique\, Concerts\, Animations\, 20 ans des yoles\, Fanfare\, Feu d’artifice\, Bal \nPartager :\n\n	Sur le même thème\n
URL:http://www.yolingclub.fr/event/guinguette-du-14-juillet-2019/
END:VEVENT
END:VCALENDAR