BEGIN:VCALENDAR
VERSION:2.0
PRODID:-//Yoling Club de Peillac - ECPv5.1.1//NONSGML v1.0//EN
CALSCALE:GREGORIAN
METHOD:PUBLISH
X-WR-CALNAME:Yoling Club de Peillac
X-ORIGINAL-URL:http://www.yolingclub.fr
X-WR-CALDESC:Évènements pour Yoling Club de Peillac
BEGIN:VTIMEZONE
TZID:Europe/Paris
BEGIN:DAYLIGHT
TZOFFSETFROM:+0100
TZOFFSETTO:+0200
TZNAME:CEST
DTSTART:20180325T010000
END:DAYLIGHT
BEGIN:STANDARD
TZOFFSETFROM:+0200
TZOFFSETTO:+0100
TZNAME:CET
DTSTART:20181028T010000
END:STANDARD
END:VTIMEZONE
BEGIN:VEVENT
DTSTART;TZID=Europe/Paris:20180526T073000
DTEND;TZID=Europe/Paris:20180527T200000
DTSTAMP:20260424T175246
CREATED:20180503T112605Z
LAST-MODIFIED:20180503T112605Z
UID:587-1527319800-1527451200@www.yolingclub.fr
SUMMARY:Pornic - 10 ans de Coques en bois
DESCRIPTION:Navigations à Pornic \nPartager :\n\n	Sur le même thème\n
URL:http://www.yolingclub.fr/event/pornic-10-ans-de-coques-en-bois/
CATEGORIES:Sorties
END:VEVENT
END:VCALENDAR