BEGIN:VCALENDAR
VERSION:2.0
PRODID:-//Yoling Club de Peillac - ECPv5.1.1//NONSGML v1.0//EN
CALSCALE:GREGORIAN
METHOD:PUBLISH
X-WR-CALNAME:Yoling Club de Peillac
X-ORIGINAL-URL:http://www.yolingclub.fr
X-WR-CALDESC:Évènements pour Yoling Club de Peillac
BEGIN:VTIMEZONE
TZID:Europe/Paris
BEGIN:DAYLIGHT
TZOFFSETFROM:+0100
TZOFFSETTO:+0200
TZNAME:CEST
DTSTART:20190331T010000
END:DAYLIGHT
BEGIN:STANDARD
TZOFFSETFROM:+0200
TZOFFSETTO:+0100
TZNAME:CET
DTSTART:20191027T010000
END:STANDARD
END:VTIMEZONE
BEGIN:VEVENT
DTSTART;TZID=Europe/Paris:20190527T093000
DTEND;TZID=Europe/Paris:20190602T130000
DTSTAMP:20260424T175346
CREATED:20190414T175305Z
LAST-MODIFIED:20190414T175305Z
UID:1571-1558949400-1559480400@www.yolingclub.fr
SUMMARY:Semaine du Golfe 2019
DESCRIPTION:Le Yoling Club fait naviguer ses yoles lors de la semaine du Golfe.\nInscrivez vous sur : Inscription Doodle \nProgramme des festivités\n– lundi 27 mai : navigation libre dans le Golfe (de Séné par exemple)\n– mardi 28 mai : navigation libre\, pique nique à l’île d’ARZ le midi\n– mercredi 29 mai : départ Arradon escale à LOCMARIAQUER\, soirée à Saint Goustan (AURAY)\n– jeudi 30 mai : départ St Goustan\, escale au Logeo (SARZEAU)\, soirée à LARMOR BADEN\n– vendredi 31 mai : départ Larmor Baden\, escale à Port Navalo (ARZON)\, pause huîtres à Fort Espagnol (CRAC’H)\, soirée à PLOUGOUMELEN\n– samedi 01 juin : départ Plougoumelen\, escale à Port Navalo (ARZON)\, Grande Parade\, soirée de clôture à Port Anna (SENE) avec les flottilles 2 et 6. \n– dimanche 02 juin : mise sur remorque des yoles à la cale de Barrarac’h.\nPartager :\n\n	Sur le même thème\n
URL:http://www.yolingclub.fr/event/semaine-du-golfe-2019/
END:VEVENT
END:VCALENDAR